BEGIN:VCALENDAR
VERSION:2.0
PRODID:-//Saint Martin Boat Charter - ECPv6.15.20//NONSGML v1.0//EN
CALSCALE:GREGORIAN
METHOD:PUBLISH
X-ORIGINAL-URL:https://saint-martin-boat-charter.com
X-WR-CALDESC:Events for Saint Martin Boat Charter
REFRESH-INTERVAL;VALUE=DURATION:PT1H
X-Robots-Tag:noindex
X-PUBLISHED-TTL:PT1H
BEGIN:VTIMEZONE
TZID:UTC
BEGIN:STANDARD
TZOFFSETFROM:+0000
TZOFFSETTO:+0000
TZNAME:UTC
DTSTART:20240101T000000
END:STANDARD
END:VTIMEZONE
BEGIN:VEVENT
DTSTART;VALUE=DATE:20250216
DTEND;VALUE=DATE:20250217
DTSTAMP:20260420T052705
CREATED:20230111T041119Z
LAST-MODIFIED:20240801T190154Z
UID:262-1739664000-1739750399@saint-martin-boat-charter.com
SUMMARY:Whales day
DESCRIPTION:World whales day \nSpecial whales festival in Orient bay\, with scientist explanations\, Marine park rangers. \nA special week will be organized to meet the humpback whales of the anguilla bank.
URL:https://saint-martin-boat-charter.com/event/whales-day/
LOCATION:St Martin\, C5 Orient bay resort\, Saint-martin\, France\, 97150\, Guadeloupe
CATEGORIES:Nature,whales
ATTACH;FMTTYPE=image/jpeg:https://saint-martin-boat-charter.com/wp-content/uploads/2023/01/baleine8mars23k-e1720188985611.jpg
ORGANIZER;CN="Marine Park":MAILTO:info@rnsm.org
END:VEVENT
END:VCALENDAR