BEGIN:VCALENDAR
VERSION:2.0
PRODID:-//Saint Martin Boat Charter - ECPv6.15.20//NONSGML v1.0//EN
CALSCALE:GREGORIAN
METHOD:PUBLISH
X-WR-CALNAME:Saint Martin Boat Charter
X-ORIGINAL-URL:https://saint-martin-boat-charter.com
X-WR-CALDESC:Events for Saint Martin Boat Charter
REFRESH-INTERVAL;VALUE=DURATION:PT1H
X-Robots-Tag:noindex
X-PUBLISHED-TTL:PT1H
BEGIN:VTIMEZONE
TZID:UTC
BEGIN:STANDARD
TZOFFSETFROM:+0000
TZOFFSETTO:+0000
TZNAME:UTC
DTSTART:20230101T000000
END:STANDARD
END:VTIMEZONE
BEGIN:VEVENT
DTSTART;VALUE=DATE:20241103
DTEND;VALUE=DATE:20241104
DTSTAMP:20260420T052511
CREATED:20240615T040942Z
LAST-MODIFIED:20240818T012835Z
UID:259-1730592000-1730678399@saint-martin-boat-charter.com
SUMMARY:Discover st Barth
DESCRIPTION:Discover St BArth \nBoat for 8 persons – Special Price 165 € per person
URL:https://saint-martin-boat-charter.com/event/switzerland-summit-marks-for-adventure-travel/
LOCATION:St Martin\, C5 Orient bay resort\, Saint-martin\, France\, 97150\, Guadeloupe
CATEGORIES:Events
ATTACH;FMTTYPE=image/jpeg:https://saint-martin-boat-charter.com/wp-content/uploads/2024/07/Copie-de-tortue-surface.jpg
ORGANIZER;CN="Wind adventures":MAILTO:info@wind-adventures.com
END:VEVENT
END:VCALENDAR